BEGIN:VCALENDAR
VERSION:2.0
PRODID:-//La Búsqueda - ECPv5.0.2.1//NONSGML v1.0//EN
CALSCALE:GREGORIAN
METHOD:PUBLISH
X-WR-CALNAME:La Búsqueda
X-ORIGINAL-URL:https://labusqueda.creativando.es
X-WR-CALDESC:Eventos para La Búsqueda
BEGIN:VTIMEZONE
TZID:Europe/Madrid
BEGIN:DAYLIGHT
TZOFFSETFROM:+0100
TZOFFSETTO:+0200
TZNAME:CEST
DTSTART:20170326T010000
END:DAYLIGHT
BEGIN:STANDARD
TZOFFSETFROM:+0200
TZOFFSETTO:+0100
TZNAME:CET
DTSTART:20171029T010000
END:STANDARD
END:VTIMEZONE
BEGIN:VEVENT
DTSTART;TZID=Europe/Madrid:20171118T180000
DTEND;TZID=Europe/Madrid:20171118T200000
DTSTAMP:20260420T095357
CREATED:20171006T122018Z
LAST-MODIFIED:20171116T114245Z
UID:1077-1511028000-1511035200@labusqueda.creativando.es
SUMMARY:Evento Especial Los Más Peques 2017
DESCRIPTION:Evento «Especial Familias» La Búsqueda\nLa Búsqueda en Sevilla\nLa Búsqueda es una actividad en la que la diversión está asegurada.\nParticipar en La Búsqueda significa que participaréis en un vertiginoso rastreo de puntos\, repartidos por toda la ciudad\, en los que encontraréis todo tipo de retos: puzzles\, preguntas históricas\, envío de imágenes\, interacción con los lugareños adaptado a los más peques… \nY todo con lo último en tecnología gracias a nuestros terminales y una aplicación que funciona mediante geolocalización en tiempo real. \n¿Qué necesito para comenzar a buscar?\nPues muchas ganas de divertirte\, tu DNI y comprar tu entrada. En esta edición especial\, La Búsqueda estará orientada a familias con niños para que tengan igual protagonismo adultos y niños. \nVale\, ¿Y qué gano?\nPues además de dos horas de diversión y recorrer la ciudad de una forma diferente al final por supuesto habrá un premio para los vencedores: ¡Y vaya premio! ¿Qué esconderá el misterioso baúl? \nCompra tus entradas para Sevilla aquí\nNota: La localización del evento es el punto de encuentro desde el que partirá la aventura de La Búsqueda. \nMás información en labusqueda.creativando.es \nConsulta las condiciones generales aquí \n  \n
URL:https://labusqueda.creativando.es/evento/evento-halloween-2017-2/
LOCATION:Jardines de Murillo\, Sevilla\, Av. Menéndez y Pelayo\, Sevilla\, Sevilla\, 41004\, España
ATTACH;FMTTYPE=image/png:https://labusqueda.creativando.es/wp-content/uploads/2017/10/LaBúsqueda.png
ORGANIZER;CN="La%20B%C3%BAsqueda%20-%20Gymkhana%20Interactiva":MAILTO:labusqueda@creativando.es
END:VEVENT
END:VCALENDAR